BEGIN:VCALENDAR
VERSION:2.0
PRODID:-//wiesenwolf.de - ECPv6.15.20//NONSGML v1.0//EN
CALSCALE:GREGORIAN
METHOD:PUBLISH
X-WR-CALNAME:wiesenwolf.de
X-ORIGINAL-URL:https://wiesenwolf.de
X-WR-CALDESC:Veranstaltungen für wiesenwolf.de
REFRESH-INTERVAL;VALUE=DURATION:PT1H
X-Robots-Tag:noindex
X-PUBLISHED-TTL:PT1H
BEGIN:VTIMEZONE
TZID:Europe/Berlin
BEGIN:DAYLIGHT
TZOFFSETFROM:+0100
TZOFFSETTO:+0200
TZNAME:CEST
DTSTART:20240331T010000
END:DAYLIGHT
BEGIN:STANDARD
TZOFFSETFROM:+0200
TZOFFSETTO:+0100
TZNAME:CET
DTSTART:20241027T010000
END:STANDARD
BEGIN:DAYLIGHT
TZOFFSETFROM:+0100
TZOFFSETTO:+0200
TZNAME:CEST
DTSTART:20250330T010000
END:DAYLIGHT
BEGIN:STANDARD
TZOFFSETFROM:+0200
TZOFFSETTO:+0100
TZNAME:CET
DTSTART:20251026T010000
END:STANDARD
BEGIN:DAYLIGHT
TZOFFSETFROM:+0100
TZOFFSETTO:+0200
TZNAME:CEST
DTSTART:20260329T010000
END:DAYLIGHT
BEGIN:STANDARD
TZOFFSETFROM:+0200
TZOFFSETTO:+0100
TZNAME:CET
DTSTART:20261025T010000
END:STANDARD
BEGIN:DAYLIGHT
TZOFFSETFROM:+0100
TZOFFSETTO:+0200
TZNAME:CEST
DTSTART:20270328T010000
END:DAYLIGHT
BEGIN:STANDARD
TZOFFSETFROM:+0200
TZOFFSETTO:+0100
TZNAME:CET
DTSTART:20271031T010000
END:STANDARD
END:VTIMEZONE
BEGIN:VEVENT
DTSTART;TZID=Europe/Berlin:20260424T193000
DTEND;TZID=Europe/Berlin:20260424T220000
DTSTAMP:20260425T171219
CREATED:20260125T174618Z
LAST-MODIFIED:20260125T174618Z
UID:8166-1777059000-1777068000@wiesenwolf.de
SUMMARY:Fledermauswanderung
DESCRIPTION:Weitere Infos und Anmeldung unter VHS Bocholt-Rhede-Isselburg
URL:https://wiesenwolf.de/veranstaltung/fledermauswanderung/
CATEGORIES:Vögel + Fledermäuse,Wanderung
ORGANIZER;CN="VHS-Bocholt":MAILTO:vhs@mail.bocholt.de
END:VEVENT
BEGIN:VEVENT
DTSTART;TZID=Europe/Berlin:20260422T203000
DTEND;TZID=Europe/Berlin:20260422T223000
DTSTAMP:20260425T171219
CREATED:20260125T175144Z
LAST-MODIFIED:20260125T175144Z
UID:8174-1776889800-1776897000@wiesenwolf.de
SUMMARY:Fledermauswanderung
DESCRIPTION:Weitere Infos und Anmeldung unter Borken
URL:https://wiesenwolf.de/veranstaltung/fledermauswanderung-4-2/
CATEGORIES:Vögel + Fledermäuse,Wanderung
END:VEVENT
BEGIN:VEVENT
DTSTART;TZID=Europe/Berlin:20260422T180000
DTEND;TZID=Europe/Berlin:20260422T200000
DTSTAMP:20260425T171219
CREATED:20260125T170559Z
LAST-MODIFIED:20260125T170559Z
UID:8122-1776880800-1776888000@wiesenwolf.de
SUMMARY:Kräuterclub
DESCRIPTION:Weitere Infos und Anmeldung unter VHS Dinslaken
URL:https://wiesenwolf.de/veranstaltung/kraeuterclub-2/
CATEGORIES:Essbare Wildkräuter
END:VEVENT
BEGIN:VEVENT
DTSTART;TZID=Europe/Berlin:20260419T100000
DTEND;TZID=Europe/Berlin:20260419T130000
DTSTAMP:20260425T171219
CREATED:20260125T165123Z
LAST-MODIFIED:20260125T165123Z
UID:8102-1776592800-1776603600@wiesenwolf.de
SUMMARY:Wildkräuterwanderung
DESCRIPTION:Weitere Infos und Anmeldung unter VHS Dinslaken
URL:https://wiesenwolf.de/veranstaltung/wildkraeuterwanderung-2/
LOCATION:VHS Dinslaken\, Friedrich-Ebert-Str. 84\, Dinslaken\, 46535
CATEGORIES:Essbare Wildkräuter,Wanderung
END:VEVENT
BEGIN:VEVENT
DTSTART;TZID=Europe/Berlin:20260418T200000
DTEND;TZID=Europe/Berlin:20260418T223000
DTSTAMP:20260425T171219
CREATED:20260125T174800Z
LAST-MODIFIED:20260125T174812Z
UID:8168-1776542400-1776551400@wiesenwolf.de
SUMMARY:Fledermauswanderung
DESCRIPTION:Weitere Infos und Anmeldung unter VHS Dinslaken
URL:https://wiesenwolf.de/veranstaltung/fledermauswanderung-2/
CATEGORIES:Vögel + Fledermäuse,Wanderung
END:VEVENT
BEGIN:VEVENT
DTSTART;TZID=Europe/Berlin:20260417T203000
DTEND;TZID=Europe/Berlin:20260417T230000
DTSTAMP:20260425T171219
CREATED:20260125T175543Z
LAST-MODIFIED:20260125T175543Z
UID:8180-1776457800-1776466800@wiesenwolf.de
SUMMARY:Fledermauswanderung
DESCRIPTION:Weitere Infos und Anmeldung unter Naturforum Bislicher Insel
URL:https://wiesenwolf.de/veranstaltung/fledermauswanderung-4-4/
CATEGORIES:Vögel + Fledermäuse,Wanderung
ORGANIZER;CN="RVR-Naturforum Bislicher Insel":MAILTO:naturforumbislicherinsel@rvr.ruhr
END:VEVENT
BEGIN:VEVENT
DTSTART;TZID=Europe/Berlin:20260415T180000
DTEND;TZID=Europe/Berlin:20260415T210000
DTSTAMP:20260425T171219
CREATED:20260125T170822Z
LAST-MODIFIED:20260125T170822Z
UID:8128-1776276000-1776286800@wiesenwolf.de
SUMMARY:Kräuterclub
DESCRIPTION:Weitere Infos und Anmeldung unter VHS Borken
URL:https://wiesenwolf.de/veranstaltung/kraeuterclub-2-2-2-2/
CATEGORIES:Essbare Wildkräuter
END:VEVENT
BEGIN:VEVENT
DTSTART;TZID=Europe/Berlin:20260414T180000
DTEND;TZID=Europe/Berlin:20260414T200000
DTSTAMP:20260425T171219
CREATED:20260121T130206Z
LAST-MODIFIED:20260121T130206Z
UID:8091-1776189600-1776196800@wiesenwolf.de
SUMMARY:"Amsel. Drossel\, Fink und Star": Radtour für Naturliebhaber und ornithologisch Interessierte
DESCRIPTION:Weitere Infos und Anmeldung unter VHS Bocholt-Rhede-Isselburg
URL:https://wiesenwolf.de/veranstaltung/vogelstimmen-radtour/
CATEGORIES:Vögel + Fledermäuse
ORGANIZER;CN="VHS-Bocholt":MAILTO:vhs@mail.bocholt.de
END:VEVENT
BEGIN:VEVENT
DTSTART;TZID=Europe/Berlin:20260413T183000
DTEND;TZID=Europe/Berlin:20260413T210000
DTSTAMP:20260425T171219
CREATED:20260125T164553Z
LAST-MODIFIED:20260125T164553Z
UID:8098-1776105000-1776114000@wiesenwolf.de
SUMMARY:Dia-Vortrag: Essbare Wildkräuter mit anschließender Wildkräutersuppe
DESCRIPTION:Weitere Infos und Anmeldung unter VHS Dinslaken
URL:https://wiesenwolf.de/veranstaltung/dia-vortrag-essbare-wildkraeuter-mit-anschliessender-wildkraeutersuppe-3/
LOCATION:VHS Dinslaken\, Friedrich-Ebert-Str. 84\, Dinslaken\, 46535
CATEGORIES:Dia-Vortrag,Essbare Wildkräuter
END:VEVENT
BEGIN:VEVENT
DTSTART;TZID=Europe/Berlin:20260412T180000
DTEND;TZID=Europe/Berlin:20260412T210000
DTSTAMP:20260425T171219
CREATED:20260125T164321Z
LAST-MODIFIED:20260125T164321Z
UID:8094-1776016800-1776027600@wiesenwolf.de
SUMMARY:Dia-Vortrag: Essbare Wildkräuter mit anschließender Wildkräutersuppe
DESCRIPTION:Weitere Infos und Anmeldung unter Naturforum Bislicher Insel
URL:https://wiesenwolf.de/veranstaltung/dia-vortrag-essbare-wildkraeuter-mit-anschliessender-wildkraeutersuppe/
LOCATION:Naturforum Bislicher Insel\, Bislicher Insel 11\, Xanten\, NRW\, 46509\, Deutschland
CATEGORIES:Dia-Vortrag,Essbare Wildkräuter
ORGANIZER;CN="RVR-Naturforum Bislicher Insel":MAILTO:naturforumbislicherinsel@rvr.ruhr
END:VEVENT
BEGIN:VEVENT
DTSTART;TZID=Europe/Berlin:20260411T100000
DTEND;TZID=Europe/Berlin:20260411T153000
DTSTAMP:20260425T171219
CREATED:20260125T171844Z
LAST-MODIFIED:20260125T171844Z
UID:8138-1775901600-1775921400@wiesenwolf.de
SUMMARY:Waldbaden trifft Wildkräuter
DESCRIPTION:Ein ganzer Tag im Wald – zum Runterkommen\, Auftanken und Staunen.\nGemeinsam starten wir mit einem 2\,5-stündigen Waldbaden\, begleitet von meiner Kollegin Eva Grune\, zertifizierte Wald- und Gesundheitstrainerin vom Kneipp Ärztebund. Achtsam\, ruhig\, ohne Druck. Einfach da sein. Danach gibt es eine wärmende Wildkräuter-Suppe und wir tauchen ein in die Welt der heimischen essbaren Wildpflanzen: sammeln\, bestimmen\, lernen und gemeinsam genießen. \n  \nKletterwald am Pröbstingsee\, Pröbstinger Busch 16\, Borken (Teil 1: Waldbaden) \nAn der Uerde 11\, Rhede (Teil 2: Wildkräuter) \nWeitere Infos unter www.coconwell.de
URL:https://wiesenwolf.de/veranstaltung/waldbaden-trifft-wildkraeuter/
LOCATION:Kletterwald Borken\, Pröbstinger Busch 16\, Borken\, 46325
CATEGORIES:Essbare Wildkräuter,Wanderung
ORGANIZER;CN="Torsten Wollberg":MAILTO:torsten.wollberg@gmx.de
END:VEVENT
BEGIN:VEVENT
DTSTART;TZID=Europe/Berlin:20260327T163000
DTEND;TZID=Europe/Berlin:20260327T193000
DTSTAMP:20260425T171219
CREATED:20260125T170121Z
LAST-MODIFIED:20260125T170121Z
UID:8116-1774629000-1774639800@wiesenwolf.de
SUMMARY:Wildkräuterwanderung
DESCRIPTION:Weitere Infos und Anmeldung bei: St. Vinzenz Hospital Dinslaken\, Frau Grothe
URL:https://wiesenwolf.de/veranstaltung/wildkraeuterwanderung-2-3-2-2-2-2-2/
CATEGORIES:Essbare Wildkräuter,Wanderung
ORGANIZER;CN="St. Vinzenz Hospital Dinslaken":MAILTO:dagmar.grothe@st-vinzenz-hospital.de
END:VEVENT
BEGIN:VEVENT
DTSTART;TZID=Europe/Berlin:20260325T170000
DTEND;TZID=Europe/Berlin:20260325T200000
DTSTAMP:20260425T171219
CREATED:20260125T171358Z
LAST-MODIFIED:20260125T171358Z
UID:8136-1774458000-1774468800@wiesenwolf.de
SUMMARY:Essbare Wildkräuter - Eine barrierefreie Wanderung
DESCRIPTION:Weitere Infos und Anmeldung unter VHS Borken
URL:https://wiesenwolf.de/veranstaltung/essbare-wildkraeuterwanderung/
CATEGORIES:barrierefrei,Essbare Wildkräuter,Wanderung
END:VEVENT
BEGIN:VEVENT
DTSTART;TZID=Europe/Berlin:20260322T100000
DTEND;TZID=Europe/Berlin:20260322T130000
DTSTAMP:20260425T171219
CREATED:20260125T170258Z
LAST-MODIFIED:20260125T170258Z
UID:8118-1774173600-1774184400@wiesenwolf.de
SUMMARY:Wildkräuterwanderung mit Hund
DESCRIPTION:Weitere Infos und Anmeldung unter VHS Goch
URL:https://wiesenwolf.de/veranstaltung/wildkraeuterwanderung-mit-hund/
CATEGORIES:Essbare Wildkräuter,Wanderung
END:VEVENT
BEGIN:VEVENT
DTSTART;TZID=Europe/Berlin:20260321T100000
DTEND;TZID=Europe/Berlin:20260321T130000
DTSTAMP:20260425T171219
CREATED:20260125T164933Z
LAST-MODIFIED:20260125T164954Z
UID:8100-1774087200-1774098000@wiesenwolf.de
SUMMARY:Wildkräuterwanderung
DESCRIPTION:Weitere Infos und Anmeldung unter VHS Goch
URL:https://wiesenwolf.de/veranstaltung/wildkraeuterwanderung/
CATEGORIES:Essbare Wildkräuter,Wanderung
END:VEVENT
BEGIN:VEVENT
DTSTART;TZID=Europe/Berlin:20260321T070000
DTEND;TZID=Europe/Berlin:20260321T100000
DTSTAMP:20260425T171219
CREATED:20260121T125346Z
LAST-MODIFIED:20260121T125522Z
UID:8086-1774076400-1774087200@wiesenwolf.de
SUMMARY:Vogelstimmenwanderung\, inkl. kleinem Frühstück
DESCRIPTION:Weitere Infos und Anmeldung unter VHS Goch
URL:https://wiesenwolf.de/veranstaltung/vogelstimmenwanderung-inkl-kleinem-fruehstueck-2-2/
CATEGORIES:Vögel + Fledermäuse,Wanderung
END:VEVENT
BEGIN:VEVENT
DTSTART;TZID=Europe/Berlin:20260318T180000
DTEND;TZID=Europe/Berlin:20260318T200000
DTSTAMP:20260425T171219
CREATED:20260125T170520Z
LAST-MODIFIED:20260125T170520Z
UID:8120-1773856800-1773864000@wiesenwolf.de
SUMMARY:Kräuterclub
DESCRIPTION:Weitere Infos und Anmeldung unter VHS Dinslaken
URL:https://wiesenwolf.de/veranstaltung/kraeuterclub/
CATEGORIES:Essbare Wildkräuter
END:VEVENT
BEGIN:VEVENT
DTSTART;TZID=Europe/Berlin:20260315T100000
DTEND;TZID=Europe/Berlin:20260315T130000
DTSTAMP:20260425T171219
CREATED:20260125T163937Z
LAST-MODIFIED:20260125T163937Z
UID:8077-1773568800-1773579600@wiesenwolf.de
SUMMARY:Vogelkundliche Wanderung auf der Bislicher Insel
DESCRIPTION:Wir wandern durch die Auenlandschaft der Bislicher Insel\, ein bedeutendes  Naturschutzgebiet\, und dadurch auch wichtig als Brutgebiet und  Standort für den Vogelzug. Wir werden Vögel beobachten und bestimmen\, es wird Literatur vorgestellt und auf geeignete Ferngläser und Spektive eingegangen. \nVorhandene Ferngläser gerne mitbringen! \nTreffpunkt:\nParkplatz neben dem Naturforum\,\nBislicher Insel 11\, 46509 Xanten
URL:https://wiesenwolf.de/veranstaltung/vogelkundliche-wanderung/
LOCATION:Naturforum Bislicher Insel\, Bislicher Insel 11\, Xanten\, NRW\, 46509\, Deutschland
CATEGORIES:Vögel + Fledermäuse,Wanderung
ORGANIZER;CN="Torsten Wollberg":MAILTO:torsten.wollberg@gmx.de
END:VEVENT
BEGIN:VEVENT
DTSTART;TZID=Europe/Berlin:20260314T140000
DTEND;TZID=Europe/Berlin:20260314T170000
DTSTAMP:20260425T171219
CREATED:20260125T172513Z
LAST-MODIFIED:20260125T173023Z
UID:8144-1773496800-1773507600@wiesenwolf.de
SUMMARY:Kräuter in Lyrik und Dichtung\, Kräuterwanderung inkl. Wildkräutersuppe
DESCRIPTION:Weitere Infos und Anmeldung unter Naturforum Bislicher Insel
URL:https://wiesenwolf.de/veranstaltung/wildkraeuterwanderung-dichtung/
LOCATION:Naturforum Bislicher Insel\, Bislicher Insel 11\, Xanten\, NRW\, 46509\, Deutschland
CATEGORIES:Essbare Wildkräuter,Lyrik,Wanderung
ORGANIZER;CN="RVR-Naturforum Bislicher Insel":MAILTO:naturforumbislicherinsel@rvr.ruhr
END:VEVENT
BEGIN:VEVENT
DTSTART;TZID=Europe/Berlin:20260314T070000
DTEND;TZID=Europe/Berlin:20260314T100000
DTSTAMP:20260425T171219
CREATED:20260121T112904Z
LAST-MODIFIED:20260121T125209Z
UID:8084-1773471600-1773482400@wiesenwolf.de
SUMMARY:Vogelstimmenwanderung\, inkl. kleinem Frühstück
DESCRIPTION:Weitere Infos und Anmeldung unter Naturforum Bislicher Insel
URL:https://wiesenwolf.de/veranstaltung/vogelstimmenwanderung-inkl-kleinem-fruehstueck-2/
LOCATION:Naturforum Bislicher Insel\, Bislicher Insel 11\, Xanten\, NRW\, 46509\, Deutschland
CATEGORIES:Vögel + Fledermäuse,Wanderung
ORGANIZER;CN="RVR-Naturforum Bislicher Insel":MAILTO:naturforumbislicherinsel@rvr.ruhr
END:VEVENT
BEGIN:VEVENT
DTSTART;TZID=Europe/Berlin:20260308T070000
DTEND;TZID=Europe/Berlin:20260308T100000
DTSTAMP:20260425T171219
CREATED:20260121T112349Z
LAST-MODIFIED:20260121T112349Z
UID:8078-1772953200-1772964000@wiesenwolf.de
SUMMARY:Vogelstimmenwanderung\, inkl. kleinem Frühstück
DESCRIPTION:Weitere Infos und Anmeldung unter VHS Borken
URL:https://wiesenwolf.de/veranstaltung/vogelstimmenwanderung-inkl-kleinem-fruehstueck/
CATEGORIES:Vögel + Fledermäuse,Wanderung
END:VEVENT
BEGIN:VEVENT
DTSTART;TZID=Europe/Berlin:20251115T100000
DTEND;TZID=Europe/Berlin:20251115T150000
DTSTAMP:20260425T171219
CREATED:20250109T094525Z
LAST-MODIFIED:20250109T094525Z
UID:8057-1763200800-1763218800@wiesenwolf.de
SUMMARY:Sauerkraut-Seminar
DESCRIPTION:Hier habt ihr die Möglichkeit\, selber Sauerkraut zu machen\, was gar nicht so schwer ist. Mitbringen solltet ihr nur einen Sauerkrauttopf\, meist Töpfe von 3 bis 7 Litern\, alles andere stelle ich zur Verfügung (Kohlköpfe\, Hobel\, Stampfer\, Salz\, Gewürze\, …). Das Seminar beginnt mit einem Frühstück zur Stärkung\, dazu Infos zu dieser alten Technik und zu gesundheitlichen Aspekten.\nDanach geht´s los mit gemeinsamen Hobeln\, Kneten und Stampfen.\nZwischendurch machen wir eine Pause\, und zum Abschluss gibt es eine leckere warme Sauerkrautsuppe am Lagerfeuer.\nFür die Planung und den Einkauf teilt mir vorab die Größe eures Sauerkrauttopfes mit!
URL:https://wiesenwolf.de/veranstaltung/sauerkraut-seminar-3-2/
LOCATION:Torstens Bauwagen\, An der Uerde 11\, Rhede\, 46414\, Deutschland
CATEGORIES:Sauerkraut,Workshop/Seminar
ORGANIZER;CN="Torsten Wollberg":MAILTO:torsten.wollberg@gmx.de
END:VEVENT
BEGIN:VEVENT
DTSTART;TZID=Europe/Berlin:20251026T100000
DTEND;TZID=Europe/Berlin:20251026T150000
DTSTAMP:20260425T171219
CREATED:20250109T094349Z
LAST-MODIFIED:20250109T094349Z
UID:8054-1761472800-1761490800@wiesenwolf.de
SUMMARY:Sauerkraut-Seminar
DESCRIPTION:Hier habt ihr die Möglichkeit\, selber Sauerkraut zu machen\, was gar nicht so schwer ist. Mitbringen solltet ihr nur einen Sauerkrauttopf\, meist Töpfe von 3 bis 7 Litern\, alles andere stelle ich zur Verfügung (Kohlköpfe\, Hobel\, Stampfer\, Salz\, Gewürze\, …). Das Seminar beginnt mit einem Frühstück zur Stärkung\, dazu Infos zu dieser alten Technik und zu gesundheitlichen Aspekten.\nDanach geht´s los mit gemeinsamen Hobeln\, Kneten und Stampfen.\nZwischendurch machen wir eine Pause\, und zum Abschluss gibt es eine leckere warme Sauerkrautsuppe am Lagerfeuer.\nFür die Planung und den Einkauf teilt mir vorab die Größe eures Sauerkrauttopfes mit!
URL:https://wiesenwolf.de/veranstaltung/sauerkraut-seminar-3/
LOCATION:Torstens Bauwagen\, An der Uerde 11\, Rhede\, 46414\, Deutschland
CATEGORIES:Sauerkraut,Workshop/Seminar
ORGANIZER;CN="Torsten Wollberg":MAILTO:torsten.wollberg@gmx.de
END:VEVENT
END:VCALENDAR